BEGIN:VCALENDAR
VERSION:2.0
PRODID:-//Salem Baptist Church of Abington - ECPv6.15.20//NONSGML v1.0//EN
CALSCALE:GREGORIAN
METHOD:PUBLISH
X-ORIGINAL-URL:https://sbcabington.org
X-WR-CALDESC:Events for Salem Baptist Church of Abington
REFRESH-INTERVAL;VALUE=DURATION:PT1H
X-Robots-Tag:noindex
X-PUBLISHED-TTL:PT1H
BEGIN:VTIMEZONE
TZID:America/New_York
BEGIN:DAYLIGHT
TZOFFSETFROM:-0500
TZOFFSETTO:-0400
TZNAME:EDT
DTSTART:20260308T070000
END:DAYLIGHT
BEGIN:STANDARD
TZOFFSETFROM:-0400
TZOFFSETTO:-0500
TZNAME:EST
DTSTART:20261101T060000
END:STANDARD
BEGIN:DAYLIGHT
TZOFFSETFROM:-0500
TZOFFSETTO:-0400
TZNAME:EDT
DTSTART:20270314T070000
END:DAYLIGHT
BEGIN:STANDARD
TZOFFSETFROM:-0400
TZOFFSETTO:-0500
TZNAME:EST
DTSTART:20271107T060000
END:STANDARD
BEGIN:DAYLIGHT
TZOFFSETFROM:-0500
TZOFFSETTO:-0400
TZNAME:EDT
DTSTART:20280312T070000
END:DAYLIGHT
BEGIN:STANDARD
TZOFFSETFROM:-0400
TZOFFSETTO:-0500
TZNAME:EST
DTSTART:20281105T060000
END:STANDARD
END:VTIMEZONE
BEGIN:VEVENT
DTSTART;TZID=America/New_York:20270623T180000
DTEND;TZID=America/New_York:20270623T200000
DTSTAMP:20260425T191211
CREATED:20260215T141832Z
LAST-MODIFIED:20260215T141832Z
UID:10002330-1813773600-1813780800@sbcabington.org
SUMMARY:Crusaders Football
DESCRIPTION:We are a youth Catholic football program \nfor children in grades 4th through 8th grade \nJV level – 4th through 6th grades \nVarsity level – 7th & 8th grade
URL:https://sbcabington.org/event/crusaders-football-2/2027-06-23/
LOCATION:Football Field – Woodland Campus\, 2741 Woodland Road\, Abington\, PA\, 19001\, United States
ORGANIZER;CN="Ed Hughes":MAILTO:evhughes13@gmail.com
GEO:40.134161;-75.138593
X-APPLE-STRUCTURED-LOCATION;VALUE=URI;X-ADDRESS=Football Field – Woodland Campus 2741 Woodland Road Abington PA 19001 United States;X-APPLE-RADIUS=500;X-TITLE=2741 Woodland Road:geo:-75.138593,40.134161
END:VEVENT
BEGIN:VEVENT
DTSTART;TZID=America/New_York:20270624T180000
DTEND;TZID=America/New_York:20270624T200000
DTSTAMP:20260425T191211
CREATED:20260215T141540Z
LAST-MODIFIED:20260215T141540Z
UID:10002114-1813860000-1813867200@sbcabington.org
SUMMARY:Crusaders Football
DESCRIPTION:We are a youth Catholic football program \nfor children in grades 4th through 8th grade \nJV level – 4th through 6th grades \nVarsity level – 7th & 8th grade
URL:https://sbcabington.org/event/crusaders-football/2027-06-24/
LOCATION:Football Field – Woodland Campus\, 2741 Woodland Road\, Abington\, PA\, 19001\, United States
ORGANIZER;CN="Ed Hughes":MAILTO:evhughes13@gmail.com
GEO:40.134161;-75.138593
X-APPLE-STRUCTURED-LOCATION;VALUE=URI;X-ADDRESS=Football Field – Woodland Campus 2741 Woodland Road Abington PA 19001 United States;X-APPLE-RADIUS=500;X-TITLE=2741 Woodland Road:geo:-75.138593,40.134161
END:VEVENT
BEGIN:VEVENT
DTSTART;TZID=America/New_York:20270624T180000
DTEND;TZID=America/New_York:20270624T200000
DTSTAMP:20260425T191211
CREATED:20260215T141832Z
LAST-MODIFIED:20260215T141832Z
UID:10002226-1813860000-1813867200@sbcabington.org
SUMMARY:Crusaders Football
DESCRIPTION:We are a youth Catholic football program \nfor children in grades 4th through 8th grade \nJV level – 4th through 6th grades \nVarsity level – 7th & 8th grade
URL:https://sbcabington.org/event/crusaders-football-2/2027-06-24/
LOCATION:Football Field – Woodland Campus\, 2741 Woodland Road\, Abington\, PA\, 19001\, United States
ORGANIZER;CN="Ed Hughes":MAILTO:evhughes13@gmail.com
GEO:40.134161;-75.138593
X-APPLE-STRUCTURED-LOCATION;VALUE=URI;X-ADDRESS=Football Field – Woodland Campus 2741 Woodland Road Abington PA 19001 United States;X-APPLE-RADIUS=500;X-TITLE=2741 Woodland Road:geo:-75.138593,40.134161
END:VEVENT
BEGIN:VEVENT
DTSTART;TZID=America/New_York:20270624T180000
DTEND;TZID=America/New_York:20270624T200000
DTSTAMP:20260425T191211
CREATED:20260215T142123Z
LAST-MODIFIED:20260215T142123Z
UID:10002460-1813860000-1813867200@sbcabington.org
SUMMARY:Crusaders Football
DESCRIPTION:We are a youth Catholic football program \nfor children in grades 4th through 8th grade \nJV level – 4th through 6th grades \nVarsity level – 7th & 8th grade
URL:https://sbcabington.org/event/crusaders-football-3/2027-06-24/
LOCATION:Football Field – Woodland Campus\, 2741 Woodland Road\, Abington\, PA\, 19001\, United States
ORGANIZER;CN="Ed Hughes":MAILTO:evhughes13@gmail.com
GEO:40.134161;-75.138593
X-APPLE-STRUCTURED-LOCATION;VALUE=URI;X-ADDRESS=Football Field – Woodland Campus 2741 Woodland Road Abington PA 19001 United States;X-APPLE-RADIUS=500;X-TITLE=2741 Woodland Road:geo:-75.138593,40.134161
END:VEVENT
BEGIN:VEVENT
DTSTART;TZID=America/New_York:20270626T103000
DTEND;TZID=America/New_York:20270626T140000
DTSTAMP:20260425T191211
CREATED:20260215T150348Z
LAST-MODIFIED:20260215T150540Z
UID:10002731-1814005800-1814018400@sbcabington.org
SUMMARY:Crusaders Football
DESCRIPTION:We are a youth Catholic football program \nfor children in grades 4th through 8th grade \nJV level – 4th through 6th grades \nVarsity level – 7th & 8th grade
URL:https://sbcabington.org/event/crusaders-football-4/2027-06-26/
LOCATION:Football Field – Woodland Campus\, 2741 Woodland Road\, Abington\, PA\, 19001\, United States
ORGANIZER;CN="Ed Hughes":MAILTO:evhughes13@gmail.com
GEO:40.134161;-75.138593
X-APPLE-STRUCTURED-LOCATION;VALUE=URI;X-ADDRESS=Football Field – Woodland Campus 2741 Woodland Road Abington PA 19001 United States;X-APPLE-RADIUS=500;X-TITLE=2741 Woodland Road:geo:-75.138593,40.134161
END:VEVENT
BEGIN:VEVENT
DTSTART;TZID=America/New_York:20270628T180000
DTEND;TZID=America/New_York:20270628T200000
DTSTAMP:20260425T191211
CREATED:20260215T141832Z
LAST-MODIFIED:20260215T141832Z
UID:10002331-1814205600-1814212800@sbcabington.org
SUMMARY:Crusaders Football
DESCRIPTION:We are a youth Catholic football program \nfor children in grades 4th through 8th grade \nJV level – 4th through 6th grades \nVarsity level – 7th & 8th grade
URL:https://sbcabington.org/event/crusaders-football-2/2027-06-28/
LOCATION:Football Field – Woodland Campus\, 2741 Woodland Road\, Abington\, PA\, 19001\, United States
ORGANIZER;CN="Ed Hughes":MAILTO:evhughes13@gmail.com
GEO:40.134161;-75.138593
X-APPLE-STRUCTURED-LOCATION;VALUE=URI;X-ADDRESS=Football Field – Woodland Campus 2741 Woodland Road Abington PA 19001 United States;X-APPLE-RADIUS=500;X-TITLE=2741 Woodland Road:geo:-75.138593,40.134161
END:VEVENT
BEGIN:VEVENT
DTSTART;TZID=America/New_York:20270629T180000
DTEND;TZID=America/New_York:20270629T200000
DTSTAMP:20260425T191211
CREATED:20260215T141540Z
LAST-MODIFIED:20260215T141540Z
UID:10002115-1814292000-1814299200@sbcabington.org
SUMMARY:Crusaders Football
DESCRIPTION:We are a youth Catholic football program \nfor children in grades 4th through 8th grade \nJV level – 4th through 6th grades \nVarsity level – 7th & 8th grade
URL:https://sbcabington.org/event/crusaders-football/2027-06-29/
LOCATION:Football Field – Woodland Campus\, 2741 Woodland Road\, Abington\, PA\, 19001\, United States
ORGANIZER;CN="Ed Hughes":MAILTO:evhughes13@gmail.com
GEO:40.134161;-75.138593
X-APPLE-STRUCTURED-LOCATION;VALUE=URI;X-ADDRESS=Football Field – Woodland Campus 2741 Woodland Road Abington PA 19001 United States;X-APPLE-RADIUS=500;X-TITLE=2741 Woodland Road:geo:-75.138593,40.134161
END:VEVENT
BEGIN:VEVENT
DTSTART;TZID=America/New_York:20270629T180000
DTEND;TZID=America/New_York:20270629T200000
DTSTAMP:20260425T191211
CREATED:20260215T141832Z
LAST-MODIFIED:20260215T141832Z
UID:10002227-1814292000-1814299200@sbcabington.org
SUMMARY:Crusaders Football
DESCRIPTION:We are a youth Catholic football program \nfor children in grades 4th through 8th grade \nJV level – 4th through 6th grades \nVarsity level – 7th & 8th grade
URL:https://sbcabington.org/event/crusaders-football-2/2027-06-29/
LOCATION:Football Field – Woodland Campus\, 2741 Woodland Road\, Abington\, PA\, 19001\, United States
ORGANIZER;CN="Ed Hughes":MAILTO:evhughes13@gmail.com
GEO:40.134161;-75.138593
X-APPLE-STRUCTURED-LOCATION;VALUE=URI;X-ADDRESS=Football Field – Woodland Campus 2741 Woodland Road Abington PA 19001 United States;X-APPLE-RADIUS=500;X-TITLE=2741 Woodland Road:geo:-75.138593,40.134161
END:VEVENT
BEGIN:VEVENT
DTSTART;TZID=America/New_York:20270629T180000
DTEND;TZID=America/New_York:20270629T200000
DTSTAMP:20260425T191211
CREATED:20260215T142123Z
LAST-MODIFIED:20260215T142123Z
UID:10002461-1814292000-1814299200@sbcabington.org
SUMMARY:Crusaders Football
DESCRIPTION:We are a youth Catholic football program \nfor children in grades 4th through 8th grade \nJV level – 4th through 6th grades \nVarsity level – 7th & 8th grade
URL:https://sbcabington.org/event/crusaders-football-3/2027-06-29/
LOCATION:Football Field – Woodland Campus\, 2741 Woodland Road\, Abington\, PA\, 19001\, United States
ORGANIZER;CN="Ed Hughes":MAILTO:evhughes13@gmail.com
GEO:40.134161;-75.138593
X-APPLE-STRUCTURED-LOCATION;VALUE=URI;X-ADDRESS=Football Field – Woodland Campus 2741 Woodland Road Abington PA 19001 United States;X-APPLE-RADIUS=500;X-TITLE=2741 Woodland Road:geo:-75.138593,40.134161
END:VEVENT
BEGIN:VEVENT
DTSTART;TZID=America/New_York:20270630T180000
DTEND;TZID=America/New_York:20270630T200000
DTSTAMP:20260425T191211
CREATED:20260215T141832Z
LAST-MODIFIED:20260215T141832Z
UID:10002332-1814378400-1814385600@sbcabington.org
SUMMARY:Crusaders Football
DESCRIPTION:We are a youth Catholic football program \nfor children in grades 4th through 8th grade \nJV level – 4th through 6th grades \nVarsity level – 7th & 8th grade
URL:https://sbcabington.org/event/crusaders-football-2/2027-06-30/
LOCATION:Football Field – Woodland Campus\, 2741 Woodland Road\, Abington\, PA\, 19001\, United States
ORGANIZER;CN="Ed Hughes":MAILTO:evhughes13@gmail.com
GEO:40.134161;-75.138593
X-APPLE-STRUCTURED-LOCATION;VALUE=URI;X-ADDRESS=Football Field – Woodland Campus 2741 Woodland Road Abington PA 19001 United States;X-APPLE-RADIUS=500;X-TITLE=2741 Woodland Road:geo:-75.138593,40.134161
END:VEVENT
BEGIN:VEVENT
DTSTART;TZID=America/New_York:20270701T180000
DTEND;TZID=America/New_York:20270701T200000
DTSTAMP:20260425T191211
CREATED:20260215T141540Z
LAST-MODIFIED:20260215T141540Z
UID:10002116-1814464800-1814472000@sbcabington.org
SUMMARY:Crusaders Football
DESCRIPTION:We are a youth Catholic football program \nfor children in grades 4th through 8th grade \nJV level – 4th through 6th grades \nVarsity level – 7th & 8th grade
URL:https://sbcabington.org/event/crusaders-football/2027-07-01/
LOCATION:Football Field – Woodland Campus\, 2741 Woodland Road\, Abington\, PA\, 19001\, United States
ORGANIZER;CN="Ed Hughes":MAILTO:evhughes13@gmail.com
GEO:40.134161;-75.138593
X-APPLE-STRUCTURED-LOCATION;VALUE=URI;X-ADDRESS=Football Field – Woodland Campus 2741 Woodland Road Abington PA 19001 United States;X-APPLE-RADIUS=500;X-TITLE=2741 Woodland Road:geo:-75.138593,40.134161
END:VEVENT
BEGIN:VEVENT
DTSTART;TZID=America/New_York:20270701T180000
DTEND;TZID=America/New_York:20270701T200000
DTSTAMP:20260425T191211
CREATED:20260215T141832Z
LAST-MODIFIED:20260215T141832Z
UID:10002228-1814464800-1814472000@sbcabington.org
SUMMARY:Crusaders Football
DESCRIPTION:We are a youth Catholic football program \nfor children in grades 4th through 8th grade \nJV level – 4th through 6th grades \nVarsity level – 7th & 8th grade
URL:https://sbcabington.org/event/crusaders-football-2/2027-07-01/
LOCATION:Football Field – Woodland Campus\, 2741 Woodland Road\, Abington\, PA\, 19001\, United States
ORGANIZER;CN="Ed Hughes":MAILTO:evhughes13@gmail.com
GEO:40.134161;-75.138593
X-APPLE-STRUCTURED-LOCATION;VALUE=URI;X-ADDRESS=Football Field – Woodland Campus 2741 Woodland Road Abington PA 19001 United States;X-APPLE-RADIUS=500;X-TITLE=2741 Woodland Road:geo:-75.138593,40.134161
END:VEVENT
BEGIN:VEVENT
DTSTART;TZID=America/New_York:20270701T180000
DTEND;TZID=America/New_York:20270701T200000
DTSTAMP:20260425T191211
CREATED:20260215T142123Z
LAST-MODIFIED:20260215T142123Z
UID:10002462-1814464800-1814472000@sbcabington.org
SUMMARY:Crusaders Football
DESCRIPTION:We are a youth Catholic football program \nfor children in grades 4th through 8th grade \nJV level – 4th through 6th grades \nVarsity level – 7th & 8th grade
URL:https://sbcabington.org/event/crusaders-football-3/2027-07-01/
LOCATION:Football Field – Woodland Campus\, 2741 Woodland Road\, Abington\, PA\, 19001\, United States
ORGANIZER;CN="Ed Hughes":MAILTO:evhughes13@gmail.com
GEO:40.134161;-75.138593
X-APPLE-STRUCTURED-LOCATION;VALUE=URI;X-ADDRESS=Football Field – Woodland Campus 2741 Woodland Road Abington PA 19001 United States;X-APPLE-RADIUS=500;X-TITLE=2741 Woodland Road:geo:-75.138593,40.134161
END:VEVENT
BEGIN:VEVENT
DTSTART;TZID=America/New_York:20270703T103000
DTEND;TZID=America/New_York:20270703T140000
DTSTAMP:20260425T191211
CREATED:20260215T150348Z
LAST-MODIFIED:20260215T150540Z
UID:10002732-1814610600-1814623200@sbcabington.org
SUMMARY:Crusaders Football
DESCRIPTION:We are a youth Catholic football program \nfor children in grades 4th through 8th grade \nJV level – 4th through 6th grades \nVarsity level – 7th & 8th grade
URL:https://sbcabington.org/event/crusaders-football-4/2027-07-03/
LOCATION:Football Field – Woodland Campus\, 2741 Woodland Road\, Abington\, PA\, 19001\, United States
ORGANIZER;CN="Ed Hughes":MAILTO:evhughes13@gmail.com
GEO:40.134161;-75.138593
X-APPLE-STRUCTURED-LOCATION;VALUE=URI;X-ADDRESS=Football Field – Woodland Campus 2741 Woodland Road Abington PA 19001 United States;X-APPLE-RADIUS=500;X-TITLE=2741 Woodland Road:geo:-75.138593,40.134161
END:VEVENT
BEGIN:VEVENT
DTSTART;TZID=America/New_York:20270705T180000
DTEND;TZID=America/New_York:20270705T200000
DTSTAMP:20260425T191211
CREATED:20260215T141832Z
LAST-MODIFIED:20260215T141832Z
UID:10002333-1814810400-1814817600@sbcabington.org
SUMMARY:Crusaders Football
DESCRIPTION:We are a youth Catholic football program \nfor children in grades 4th through 8th grade \nJV level – 4th through 6th grades \nVarsity level – 7th & 8th grade
URL:https://sbcabington.org/event/crusaders-football-2/2027-07-05/
LOCATION:Football Field – Woodland Campus\, 2741 Woodland Road\, Abington\, PA\, 19001\, United States
ORGANIZER;CN="Ed Hughes":MAILTO:evhughes13@gmail.com
GEO:40.134161;-75.138593
X-APPLE-STRUCTURED-LOCATION;VALUE=URI;X-ADDRESS=Football Field – Woodland Campus 2741 Woodland Road Abington PA 19001 United States;X-APPLE-RADIUS=500;X-TITLE=2741 Woodland Road:geo:-75.138593,40.134161
END:VEVENT
BEGIN:VEVENT
DTSTART;TZID=America/New_York:20270706T180000
DTEND;TZID=America/New_York:20270706T200000
DTSTAMP:20260425T191211
CREATED:20260215T141540Z
LAST-MODIFIED:20260215T141540Z
UID:10002117-1814896800-1814904000@sbcabington.org
SUMMARY:Crusaders Football
DESCRIPTION:We are a youth Catholic football program \nfor children in grades 4th through 8th grade \nJV level – 4th through 6th grades \nVarsity level – 7th & 8th grade
URL:https://sbcabington.org/event/crusaders-football/2027-07-06/
LOCATION:Football Field – Woodland Campus\, 2741 Woodland Road\, Abington\, PA\, 19001\, United States
ORGANIZER;CN="Ed Hughes":MAILTO:evhughes13@gmail.com
GEO:40.134161;-75.138593
X-APPLE-STRUCTURED-LOCATION;VALUE=URI;X-ADDRESS=Football Field – Woodland Campus 2741 Woodland Road Abington PA 19001 United States;X-APPLE-RADIUS=500;X-TITLE=2741 Woodland Road:geo:-75.138593,40.134161
END:VEVENT
BEGIN:VEVENT
DTSTART;TZID=America/New_York:20270706T180000
DTEND;TZID=America/New_York:20270706T200000
DTSTAMP:20260425T191211
CREATED:20260215T141832Z
LAST-MODIFIED:20260215T141832Z
UID:10002229-1814896800-1814904000@sbcabington.org
SUMMARY:Crusaders Football
DESCRIPTION:We are a youth Catholic football program \nfor children in grades 4th through 8th grade \nJV level – 4th through 6th grades \nVarsity level – 7th & 8th grade
URL:https://sbcabington.org/event/crusaders-football-2/2027-07-06/
LOCATION:Football Field – Woodland Campus\, 2741 Woodland Road\, Abington\, PA\, 19001\, United States
ORGANIZER;CN="Ed Hughes":MAILTO:evhughes13@gmail.com
GEO:40.134161;-75.138593
X-APPLE-STRUCTURED-LOCATION;VALUE=URI;X-ADDRESS=Football Field – Woodland Campus 2741 Woodland Road Abington PA 19001 United States;X-APPLE-RADIUS=500;X-TITLE=2741 Woodland Road:geo:-75.138593,40.134161
END:VEVENT
BEGIN:VEVENT
DTSTART;TZID=America/New_York:20270706T180000
DTEND;TZID=America/New_York:20270706T200000
DTSTAMP:20260425T191211
CREATED:20260215T142123Z
LAST-MODIFIED:20260215T142123Z
UID:10002463-1814896800-1814904000@sbcabington.org
SUMMARY:Crusaders Football
DESCRIPTION:We are a youth Catholic football program \nfor children in grades 4th through 8th grade \nJV level – 4th through 6th grades \nVarsity level – 7th & 8th grade
URL:https://sbcabington.org/event/crusaders-football-3/2027-07-06/
LOCATION:Football Field – Woodland Campus\, 2741 Woodland Road\, Abington\, PA\, 19001\, United States
ORGANIZER;CN="Ed Hughes":MAILTO:evhughes13@gmail.com
GEO:40.134161;-75.138593
X-APPLE-STRUCTURED-LOCATION;VALUE=URI;X-ADDRESS=Football Field – Woodland Campus 2741 Woodland Road Abington PA 19001 United States;X-APPLE-RADIUS=500;X-TITLE=2741 Woodland Road:geo:-75.138593,40.134161
END:VEVENT
BEGIN:VEVENT
DTSTART;TZID=America/New_York:20270707T180000
DTEND;TZID=America/New_York:20270707T200000
DTSTAMP:20260425T191211
CREATED:20260215T141832Z
LAST-MODIFIED:20260215T141832Z
UID:10002334-1814983200-1814990400@sbcabington.org
SUMMARY:Crusaders Football
DESCRIPTION:We are a youth Catholic football program \nfor children in grades 4th through 8th grade \nJV level – 4th through 6th grades \nVarsity level – 7th & 8th grade
URL:https://sbcabington.org/event/crusaders-football-2/2027-07-07/
LOCATION:Football Field – Woodland Campus\, 2741 Woodland Road\, Abington\, PA\, 19001\, United States
ORGANIZER;CN="Ed Hughes":MAILTO:evhughes13@gmail.com
GEO:40.134161;-75.138593
X-APPLE-STRUCTURED-LOCATION;VALUE=URI;X-ADDRESS=Football Field – Woodland Campus 2741 Woodland Road Abington PA 19001 United States;X-APPLE-RADIUS=500;X-TITLE=2741 Woodland Road:geo:-75.138593,40.134161
END:VEVENT
BEGIN:VEVENT
DTSTART;TZID=America/New_York:20270708T180000
DTEND;TZID=America/New_York:20270708T200000
DTSTAMP:20260425T191211
CREATED:20260215T141540Z
LAST-MODIFIED:20260215T141540Z
UID:10002118-1815069600-1815076800@sbcabington.org
SUMMARY:Crusaders Football
DESCRIPTION:We are a youth Catholic football program \nfor children in grades 4th through 8th grade \nJV level – 4th through 6th grades \nVarsity level – 7th & 8th grade
URL:https://sbcabington.org/event/crusaders-football/2027-07-08/
LOCATION:Football Field – Woodland Campus\, 2741 Woodland Road\, Abington\, PA\, 19001\, United States
ORGANIZER;CN="Ed Hughes":MAILTO:evhughes13@gmail.com
GEO:40.134161;-75.138593
X-APPLE-STRUCTURED-LOCATION;VALUE=URI;X-ADDRESS=Football Field – Woodland Campus 2741 Woodland Road Abington PA 19001 United States;X-APPLE-RADIUS=500;X-TITLE=2741 Woodland Road:geo:-75.138593,40.134161
END:VEVENT
BEGIN:VEVENT
DTSTART;TZID=America/New_York:20270708T180000
DTEND;TZID=America/New_York:20270708T200000
DTSTAMP:20260425T191211
CREATED:20260215T141832Z
LAST-MODIFIED:20260215T141832Z
UID:10002230-1815069600-1815076800@sbcabington.org
SUMMARY:Crusaders Football
DESCRIPTION:We are a youth Catholic football program \nfor children in grades 4th through 8th grade \nJV level – 4th through 6th grades \nVarsity level – 7th & 8th grade
URL:https://sbcabington.org/event/crusaders-football-2/2027-07-08/
LOCATION:Football Field – Woodland Campus\, 2741 Woodland Road\, Abington\, PA\, 19001\, United States
ORGANIZER;CN="Ed Hughes":MAILTO:evhughes13@gmail.com
GEO:40.134161;-75.138593
X-APPLE-STRUCTURED-LOCATION;VALUE=URI;X-ADDRESS=Football Field – Woodland Campus 2741 Woodland Road Abington PA 19001 United States;X-APPLE-RADIUS=500;X-TITLE=2741 Woodland Road:geo:-75.138593,40.134161
END:VEVENT
BEGIN:VEVENT
DTSTART;TZID=America/New_York:20270708T180000
DTEND;TZID=America/New_York:20270708T200000
DTSTAMP:20260425T191211
CREATED:20260215T142123Z
LAST-MODIFIED:20260215T142123Z
UID:10002464-1815069600-1815076800@sbcabington.org
SUMMARY:Crusaders Football
DESCRIPTION:We are a youth Catholic football program \nfor children in grades 4th through 8th grade \nJV level – 4th through 6th grades \nVarsity level – 7th & 8th grade
URL:https://sbcabington.org/event/crusaders-football-3/2027-07-08/
LOCATION:Football Field – Woodland Campus\, 2741 Woodland Road\, Abington\, PA\, 19001\, United States
ORGANIZER;CN="Ed Hughes":MAILTO:evhughes13@gmail.com
GEO:40.134161;-75.138593
X-APPLE-STRUCTURED-LOCATION;VALUE=URI;X-ADDRESS=Football Field – Woodland Campus 2741 Woodland Road Abington PA 19001 United States;X-APPLE-RADIUS=500;X-TITLE=2741 Woodland Road:geo:-75.138593,40.134161
END:VEVENT
BEGIN:VEVENT
DTSTART;TZID=America/New_York:20270710T103000
DTEND;TZID=America/New_York:20270710T140000
DTSTAMP:20260425T191211
CREATED:20260215T150348Z
LAST-MODIFIED:20260215T150540Z
UID:10002733-1815215400-1815228000@sbcabington.org
SUMMARY:Crusaders Football
DESCRIPTION:We are a youth Catholic football program \nfor children in grades 4th through 8th grade \nJV level – 4th through 6th grades \nVarsity level – 7th & 8th grade
URL:https://sbcabington.org/event/crusaders-football-4/2027-07-10/
LOCATION:Football Field – Woodland Campus\, 2741 Woodland Road\, Abington\, PA\, 19001\, United States
ORGANIZER;CN="Ed Hughes":MAILTO:evhughes13@gmail.com
GEO:40.134161;-75.138593
X-APPLE-STRUCTURED-LOCATION;VALUE=URI;X-ADDRESS=Football Field – Woodland Campus 2741 Woodland Road Abington PA 19001 United States;X-APPLE-RADIUS=500;X-TITLE=2741 Woodland Road:geo:-75.138593,40.134161
END:VEVENT
BEGIN:VEVENT
DTSTART;TZID=America/New_York:20270712T180000
DTEND;TZID=America/New_York:20270712T200000
DTSTAMP:20260425T191211
CREATED:20260215T141832Z
LAST-MODIFIED:20260215T141832Z
UID:10002335-1815415200-1815422400@sbcabington.org
SUMMARY:Crusaders Football
DESCRIPTION:We are a youth Catholic football program \nfor children in grades 4th through 8th grade \nJV level – 4th through 6th grades \nVarsity level – 7th & 8th grade
URL:https://sbcabington.org/event/crusaders-football-2/2027-07-12/
LOCATION:Football Field – Woodland Campus\, 2741 Woodland Road\, Abington\, PA\, 19001\, United States
ORGANIZER;CN="Ed Hughes":MAILTO:evhughes13@gmail.com
GEO:40.134161;-75.138593
X-APPLE-STRUCTURED-LOCATION;VALUE=URI;X-ADDRESS=Football Field – Woodland Campus 2741 Woodland Road Abington PA 19001 United States;X-APPLE-RADIUS=500;X-TITLE=2741 Woodland Road:geo:-75.138593,40.134161
END:VEVENT
BEGIN:VEVENT
DTSTART;TZID=America/New_York:20270713T180000
DTEND;TZID=America/New_York:20270713T200000
DTSTAMP:20260425T191211
CREATED:20260215T141540Z
LAST-MODIFIED:20260215T141540Z
UID:10002119-1815501600-1815508800@sbcabington.org
SUMMARY:Crusaders Football
DESCRIPTION:We are a youth Catholic football program \nfor children in grades 4th through 8th grade \nJV level – 4th through 6th grades \nVarsity level – 7th & 8th grade
URL:https://sbcabington.org/event/crusaders-football/2027-07-13/
LOCATION:Football Field – Woodland Campus\, 2741 Woodland Road\, Abington\, PA\, 19001\, United States
ORGANIZER;CN="Ed Hughes":MAILTO:evhughes13@gmail.com
GEO:40.134161;-75.138593
X-APPLE-STRUCTURED-LOCATION;VALUE=URI;X-ADDRESS=Football Field – Woodland Campus 2741 Woodland Road Abington PA 19001 United States;X-APPLE-RADIUS=500;X-TITLE=2741 Woodland Road:geo:-75.138593,40.134161
END:VEVENT
BEGIN:VEVENT
DTSTART;TZID=America/New_York:20270713T180000
DTEND;TZID=America/New_York:20270713T200000
DTSTAMP:20260425T191211
CREATED:20260215T141832Z
LAST-MODIFIED:20260215T141832Z
UID:10002231-1815501600-1815508800@sbcabington.org
SUMMARY:Crusaders Football
DESCRIPTION:We are a youth Catholic football program \nfor children in grades 4th through 8th grade \nJV level – 4th through 6th grades \nVarsity level – 7th & 8th grade
URL:https://sbcabington.org/event/crusaders-football-2/2027-07-13/
LOCATION:Football Field – Woodland Campus\, 2741 Woodland Road\, Abington\, PA\, 19001\, United States
ORGANIZER;CN="Ed Hughes":MAILTO:evhughes13@gmail.com
GEO:40.134161;-75.138593
X-APPLE-STRUCTURED-LOCATION;VALUE=URI;X-ADDRESS=Football Field – Woodland Campus 2741 Woodland Road Abington PA 19001 United States;X-APPLE-RADIUS=500;X-TITLE=2741 Woodland Road:geo:-75.138593,40.134161
END:VEVENT
BEGIN:VEVENT
DTSTART;TZID=America/New_York:20270713T180000
DTEND;TZID=America/New_York:20270713T200000
DTSTAMP:20260425T191211
CREATED:20260215T142123Z
LAST-MODIFIED:20260215T142123Z
UID:10002465-1815501600-1815508800@sbcabington.org
SUMMARY:Crusaders Football
DESCRIPTION:We are a youth Catholic football program \nfor children in grades 4th through 8th grade \nJV level – 4th through 6th grades \nVarsity level – 7th & 8th grade
URL:https://sbcabington.org/event/crusaders-football-3/2027-07-13/
LOCATION:Football Field – Woodland Campus\, 2741 Woodland Road\, Abington\, PA\, 19001\, United States
ORGANIZER;CN="Ed Hughes":MAILTO:evhughes13@gmail.com
GEO:40.134161;-75.138593
X-APPLE-STRUCTURED-LOCATION;VALUE=URI;X-ADDRESS=Football Field – Woodland Campus 2741 Woodland Road Abington PA 19001 United States;X-APPLE-RADIUS=500;X-TITLE=2741 Woodland Road:geo:-75.138593,40.134161
END:VEVENT
BEGIN:VEVENT
DTSTART;TZID=America/New_York:20270714T180000
DTEND;TZID=America/New_York:20270714T200000
DTSTAMP:20260425T191211
CREATED:20260215T141832Z
LAST-MODIFIED:20260215T141832Z
UID:10002336-1815588000-1815595200@sbcabington.org
SUMMARY:Crusaders Football
DESCRIPTION:We are a youth Catholic football program \nfor children in grades 4th through 8th grade \nJV level – 4th through 6th grades \nVarsity level – 7th & 8th grade
URL:https://sbcabington.org/event/crusaders-football-2/2027-07-14/
LOCATION:Football Field – Woodland Campus\, 2741 Woodland Road\, Abington\, PA\, 19001\, United States
ORGANIZER;CN="Ed Hughes":MAILTO:evhughes13@gmail.com
GEO:40.134161;-75.138593
X-APPLE-STRUCTURED-LOCATION;VALUE=URI;X-ADDRESS=Football Field – Woodland Campus 2741 Woodland Road Abington PA 19001 United States;X-APPLE-RADIUS=500;X-TITLE=2741 Woodland Road:geo:-75.138593,40.134161
END:VEVENT
BEGIN:VEVENT
DTSTART;TZID=America/New_York:20270715T180000
DTEND;TZID=America/New_York:20270715T200000
DTSTAMP:20260425T191211
CREATED:20260215T141540Z
LAST-MODIFIED:20260215T141540Z
UID:10002120-1815674400-1815681600@sbcabington.org
SUMMARY:Crusaders Football
DESCRIPTION:We are a youth Catholic football program \nfor children in grades 4th through 8th grade \nJV level – 4th through 6th grades \nVarsity level – 7th & 8th grade
URL:https://sbcabington.org/event/crusaders-football/2027-07-15/
LOCATION:Football Field – Woodland Campus\, 2741 Woodland Road\, Abington\, PA\, 19001\, United States
ORGANIZER;CN="Ed Hughes":MAILTO:evhughes13@gmail.com
GEO:40.134161;-75.138593
X-APPLE-STRUCTURED-LOCATION;VALUE=URI;X-ADDRESS=Football Field – Woodland Campus 2741 Woodland Road Abington PA 19001 United States;X-APPLE-RADIUS=500;X-TITLE=2741 Woodland Road:geo:-75.138593,40.134161
END:VEVENT
BEGIN:VEVENT
DTSTART;TZID=America/New_York:20270715T180000
DTEND;TZID=America/New_York:20270715T200000
DTSTAMP:20260425T191211
CREATED:20260215T141832Z
LAST-MODIFIED:20260215T141832Z
UID:10002232-1815674400-1815681600@sbcabington.org
SUMMARY:Crusaders Football
DESCRIPTION:We are a youth Catholic football program \nfor children in grades 4th through 8th grade \nJV level – 4th through 6th grades \nVarsity level – 7th & 8th grade
URL:https://sbcabington.org/event/crusaders-football-2/2027-07-15/
LOCATION:Football Field – Woodland Campus\, 2741 Woodland Road\, Abington\, PA\, 19001\, United States
ORGANIZER;CN="Ed Hughes":MAILTO:evhughes13@gmail.com
GEO:40.134161;-75.138593
X-APPLE-STRUCTURED-LOCATION;VALUE=URI;X-ADDRESS=Football Field – Woodland Campus 2741 Woodland Road Abington PA 19001 United States;X-APPLE-RADIUS=500;X-TITLE=2741 Woodland Road:geo:-75.138593,40.134161
END:VEVENT
END:VCALENDAR