BEGIN:VCALENDAR
VERSION:2.0
PRODID:-//Salem Baptist Church of Abington - ECPv6.15.20//NONSGML v1.0//EN
CALSCALE:GREGORIAN
METHOD:PUBLISH
X-ORIGINAL-URL:https://sbcabington.org
X-WR-CALDESC:Events for Salem Baptist Church of Abington
REFRESH-INTERVAL;VALUE=DURATION:PT1H
X-Robots-Tag:noindex
X-PUBLISHED-TTL:PT1H
BEGIN:VTIMEZONE
TZID:America/New_York
BEGIN:DAYLIGHT
TZOFFSETFROM:-0500
TZOFFSETTO:-0400
TZNAME:EDT
DTSTART:20260308T070000
END:DAYLIGHT
BEGIN:STANDARD
TZOFFSETFROM:-0400
TZOFFSETTO:-0500
TZNAME:EST
DTSTART:20261101T060000
END:STANDARD
BEGIN:DAYLIGHT
TZOFFSETFROM:-0500
TZOFFSETTO:-0400
TZNAME:EDT
DTSTART:20270314T070000
END:DAYLIGHT
BEGIN:STANDARD
TZOFFSETFROM:-0400
TZOFFSETTO:-0500
TZNAME:EST
DTSTART:20271107T060000
END:STANDARD
BEGIN:DAYLIGHT
TZOFFSETFROM:-0500
TZOFFSETTO:-0400
TZNAME:EDT
DTSTART:20280312T070000
END:DAYLIGHT
BEGIN:STANDARD
TZOFFSETFROM:-0400
TZOFFSETTO:-0500
TZNAME:EST
DTSTART:20281105T060000
END:STANDARD
END:VTIMEZONE
BEGIN:VEVENT
DTSTART;TZID=America/New_York:20270713T180000
DTEND;TZID=America/New_York:20270713T200000
DTSTAMP:20260425T222453
CREATED:20260215T141540Z
LAST-MODIFIED:20260215T141540Z
UID:10002119-1815501600-1815508800@sbcabington.org
SUMMARY:Crusaders Football
DESCRIPTION:We are a youth Catholic football program \nfor children in grades 4th through 8th grade \nJV level – 4th through 6th grades \nVarsity level – 7th & 8th grade
URL:https://sbcabington.org/event/crusaders-football/2027-07-13/
LOCATION:Football Field – Woodland Campus\, 2741 Woodland Road\, Abington\, PA\, 19001\, United States
ORGANIZER;CN="Ed Hughes":MAILTO:evhughes13@gmail.com
GEO:40.134161;-75.138593
X-APPLE-STRUCTURED-LOCATION;VALUE=URI;X-ADDRESS=Football Field – Woodland Campus 2741 Woodland Road Abington PA 19001 United States;X-APPLE-RADIUS=500;X-TITLE=2741 Woodland Road:geo:-75.138593,40.134161
END:VEVENT
BEGIN:VEVENT
DTSTART;TZID=America/New_York:20270713T180000
DTEND;TZID=America/New_York:20270713T200000
DTSTAMP:20260425T222453
CREATED:20260215T141832Z
LAST-MODIFIED:20260215T141832Z
UID:10002231-1815501600-1815508800@sbcabington.org
SUMMARY:Crusaders Football
DESCRIPTION:We are a youth Catholic football program \nfor children in grades 4th through 8th grade \nJV level – 4th through 6th grades \nVarsity level – 7th & 8th grade
URL:https://sbcabington.org/event/crusaders-football-2/2027-07-13/
LOCATION:Football Field – Woodland Campus\, 2741 Woodland Road\, Abington\, PA\, 19001\, United States
ORGANIZER;CN="Ed Hughes":MAILTO:evhughes13@gmail.com
GEO:40.134161;-75.138593
X-APPLE-STRUCTURED-LOCATION;VALUE=URI;X-ADDRESS=Football Field – Woodland Campus 2741 Woodland Road Abington PA 19001 United States;X-APPLE-RADIUS=500;X-TITLE=2741 Woodland Road:geo:-75.138593,40.134161
END:VEVENT
BEGIN:VEVENT
DTSTART;TZID=America/New_York:20270713T180000
DTEND;TZID=America/New_York:20270713T200000
DTSTAMP:20260425T222453
CREATED:20260215T142123Z
LAST-MODIFIED:20260215T142123Z
UID:10002465-1815501600-1815508800@sbcabington.org
SUMMARY:Crusaders Football
DESCRIPTION:We are a youth Catholic football program \nfor children in grades 4th through 8th grade \nJV level – 4th through 6th grades \nVarsity level – 7th & 8th grade
URL:https://sbcabington.org/event/crusaders-football-3/2027-07-13/
LOCATION:Football Field – Woodland Campus\, 2741 Woodland Road\, Abington\, PA\, 19001\, United States
ORGANIZER;CN="Ed Hughes":MAILTO:evhughes13@gmail.com
GEO:40.134161;-75.138593
X-APPLE-STRUCTURED-LOCATION;VALUE=URI;X-ADDRESS=Football Field – Woodland Campus 2741 Woodland Road Abington PA 19001 United States;X-APPLE-RADIUS=500;X-TITLE=2741 Woodland Road:geo:-75.138593,40.134161
END:VEVENT
BEGIN:VEVENT
DTSTART;TZID=America/New_York:20270714T180000
DTEND;TZID=America/New_York:20270714T200000
DTSTAMP:20260425T222453
CREATED:20260215T141832Z
LAST-MODIFIED:20260215T141832Z
UID:10002336-1815588000-1815595200@sbcabington.org
SUMMARY:Crusaders Football
DESCRIPTION:We are a youth Catholic football program \nfor children in grades 4th through 8th grade \nJV level – 4th through 6th grades \nVarsity level – 7th & 8th grade
URL:https://sbcabington.org/event/crusaders-football-2/2027-07-14/
LOCATION:Football Field – Woodland Campus\, 2741 Woodland Road\, Abington\, PA\, 19001\, United States
ORGANIZER;CN="Ed Hughes":MAILTO:evhughes13@gmail.com
GEO:40.134161;-75.138593
X-APPLE-STRUCTURED-LOCATION;VALUE=URI;X-ADDRESS=Football Field – Woodland Campus 2741 Woodland Road Abington PA 19001 United States;X-APPLE-RADIUS=500;X-TITLE=2741 Woodland Road:geo:-75.138593,40.134161
END:VEVENT
BEGIN:VEVENT
DTSTART;TZID=America/New_York:20270715T180000
DTEND;TZID=America/New_York:20270715T200000
DTSTAMP:20260425T222453
CREATED:20260215T141540Z
LAST-MODIFIED:20260215T141540Z
UID:10002120-1815674400-1815681600@sbcabington.org
SUMMARY:Crusaders Football
DESCRIPTION:We are a youth Catholic football program \nfor children in grades 4th through 8th grade \nJV level – 4th through 6th grades \nVarsity level – 7th & 8th grade
URL:https://sbcabington.org/event/crusaders-football/2027-07-15/
LOCATION:Football Field – Woodland Campus\, 2741 Woodland Road\, Abington\, PA\, 19001\, United States
ORGANIZER;CN="Ed Hughes":MAILTO:evhughes13@gmail.com
GEO:40.134161;-75.138593
X-APPLE-STRUCTURED-LOCATION;VALUE=URI;X-ADDRESS=Football Field – Woodland Campus 2741 Woodland Road Abington PA 19001 United States;X-APPLE-RADIUS=500;X-TITLE=2741 Woodland Road:geo:-75.138593,40.134161
END:VEVENT
BEGIN:VEVENT
DTSTART;TZID=America/New_York:20270715T180000
DTEND;TZID=America/New_York:20270715T200000
DTSTAMP:20260425T222453
CREATED:20260215T141832Z
LAST-MODIFIED:20260215T141832Z
UID:10002232-1815674400-1815681600@sbcabington.org
SUMMARY:Crusaders Football
DESCRIPTION:We are a youth Catholic football program \nfor children in grades 4th through 8th grade \nJV level – 4th through 6th grades \nVarsity level – 7th & 8th grade
URL:https://sbcabington.org/event/crusaders-football-2/2027-07-15/
LOCATION:Football Field – Woodland Campus\, 2741 Woodland Road\, Abington\, PA\, 19001\, United States
ORGANIZER;CN="Ed Hughes":MAILTO:evhughes13@gmail.com
GEO:40.134161;-75.138593
X-APPLE-STRUCTURED-LOCATION;VALUE=URI;X-ADDRESS=Football Field – Woodland Campus 2741 Woodland Road Abington PA 19001 United States;X-APPLE-RADIUS=500;X-TITLE=2741 Woodland Road:geo:-75.138593,40.134161
END:VEVENT
BEGIN:VEVENT
DTSTART;TZID=America/New_York:20270715T180000
DTEND;TZID=America/New_York:20270715T200000
DTSTAMP:20260425T222453
CREATED:20260215T142123Z
LAST-MODIFIED:20260215T142123Z
UID:10002466-1815674400-1815681600@sbcabington.org
SUMMARY:Crusaders Football
DESCRIPTION:We are a youth Catholic football program \nfor children in grades 4th through 8th grade \nJV level – 4th through 6th grades \nVarsity level – 7th & 8th grade
URL:https://sbcabington.org/event/crusaders-football-3/2027-07-15/
LOCATION:Football Field – Woodland Campus\, 2741 Woodland Road\, Abington\, PA\, 19001\, United States
ORGANIZER;CN="Ed Hughes":MAILTO:evhughes13@gmail.com
GEO:40.134161;-75.138593
X-APPLE-STRUCTURED-LOCATION;VALUE=URI;X-ADDRESS=Football Field – Woodland Campus 2741 Woodland Road Abington PA 19001 United States;X-APPLE-RADIUS=500;X-TITLE=2741 Woodland Road:geo:-75.138593,40.134161
END:VEVENT
BEGIN:VEVENT
DTSTART;TZID=America/New_York:20270717T103000
DTEND;TZID=America/New_York:20270717T140000
DTSTAMP:20260425T222453
CREATED:20260215T150348Z
LAST-MODIFIED:20260215T150540Z
UID:10002734-1815820200-1815832800@sbcabington.org
SUMMARY:Crusaders Football
DESCRIPTION:We are a youth Catholic football program \nfor children in grades 4th through 8th grade \nJV level – 4th through 6th grades \nVarsity level – 7th & 8th grade
URL:https://sbcabington.org/event/crusaders-football-4/2027-07-17/
LOCATION:Football Field – Woodland Campus\, 2741 Woodland Road\, Abington\, PA\, 19001\, United States
ORGANIZER;CN="Ed Hughes":MAILTO:evhughes13@gmail.com
GEO:40.134161;-75.138593
X-APPLE-STRUCTURED-LOCATION;VALUE=URI;X-ADDRESS=Football Field – Woodland Campus 2741 Woodland Road Abington PA 19001 United States;X-APPLE-RADIUS=500;X-TITLE=2741 Woodland Road:geo:-75.138593,40.134161
END:VEVENT
BEGIN:VEVENT
DTSTART;TZID=America/New_York:20270719T180000
DTEND;TZID=America/New_York:20270719T200000
DTSTAMP:20260425T222453
CREATED:20260215T141832Z
LAST-MODIFIED:20260215T141832Z
UID:10002337-1816020000-1816027200@sbcabington.org
SUMMARY:Crusaders Football
DESCRIPTION:We are a youth Catholic football program \nfor children in grades 4th through 8th grade \nJV level – 4th through 6th grades \nVarsity level – 7th & 8th grade
URL:https://sbcabington.org/event/crusaders-football-2/2027-07-19/
LOCATION:Football Field – Woodland Campus\, 2741 Woodland Road\, Abington\, PA\, 19001\, United States
ORGANIZER;CN="Ed Hughes":MAILTO:evhughes13@gmail.com
GEO:40.134161;-75.138593
X-APPLE-STRUCTURED-LOCATION;VALUE=URI;X-ADDRESS=Football Field – Woodland Campus 2741 Woodland Road Abington PA 19001 United States;X-APPLE-RADIUS=500;X-TITLE=2741 Woodland Road:geo:-75.138593,40.134161
END:VEVENT
BEGIN:VEVENT
DTSTART;TZID=America/New_York:20270720T180000
DTEND;TZID=America/New_York:20270720T200000
DTSTAMP:20260425T222453
CREATED:20260215T141540Z
LAST-MODIFIED:20260215T141540Z
UID:10002121-1816106400-1816113600@sbcabington.org
SUMMARY:Crusaders Football
DESCRIPTION:We are a youth Catholic football program \nfor children in grades 4th through 8th grade \nJV level – 4th through 6th grades \nVarsity level – 7th & 8th grade
URL:https://sbcabington.org/event/crusaders-football/2027-07-20/
LOCATION:Football Field – Woodland Campus\, 2741 Woodland Road\, Abington\, PA\, 19001\, United States
ORGANIZER;CN="Ed Hughes":MAILTO:evhughes13@gmail.com
GEO:40.134161;-75.138593
X-APPLE-STRUCTURED-LOCATION;VALUE=URI;X-ADDRESS=Football Field – Woodland Campus 2741 Woodland Road Abington PA 19001 United States;X-APPLE-RADIUS=500;X-TITLE=2741 Woodland Road:geo:-75.138593,40.134161
END:VEVENT
BEGIN:VEVENT
DTSTART;TZID=America/New_York:20270720T180000
DTEND;TZID=America/New_York:20270720T200000
DTSTAMP:20260425T222453
CREATED:20260215T141832Z
LAST-MODIFIED:20260215T141832Z
UID:10002233-1816106400-1816113600@sbcabington.org
SUMMARY:Crusaders Football
DESCRIPTION:We are a youth Catholic football program \nfor children in grades 4th through 8th grade \nJV level – 4th through 6th grades \nVarsity level – 7th & 8th grade
URL:https://sbcabington.org/event/crusaders-football-2/2027-07-20/
LOCATION:Football Field – Woodland Campus\, 2741 Woodland Road\, Abington\, PA\, 19001\, United States
ORGANIZER;CN="Ed Hughes":MAILTO:evhughes13@gmail.com
GEO:40.134161;-75.138593
X-APPLE-STRUCTURED-LOCATION;VALUE=URI;X-ADDRESS=Football Field – Woodland Campus 2741 Woodland Road Abington PA 19001 United States;X-APPLE-RADIUS=500;X-TITLE=2741 Woodland Road:geo:-75.138593,40.134161
END:VEVENT
BEGIN:VEVENT
DTSTART;TZID=America/New_York:20270720T180000
DTEND;TZID=America/New_York:20270720T200000
DTSTAMP:20260425T222453
CREATED:20260215T142123Z
LAST-MODIFIED:20260215T142123Z
UID:10002467-1816106400-1816113600@sbcabington.org
SUMMARY:Crusaders Football
DESCRIPTION:We are a youth Catholic football program \nfor children in grades 4th through 8th grade \nJV level – 4th through 6th grades \nVarsity level – 7th & 8th grade
URL:https://sbcabington.org/event/crusaders-football-3/2027-07-20/
LOCATION:Football Field – Woodland Campus\, 2741 Woodland Road\, Abington\, PA\, 19001\, United States
ORGANIZER;CN="Ed Hughes":MAILTO:evhughes13@gmail.com
GEO:40.134161;-75.138593
X-APPLE-STRUCTURED-LOCATION;VALUE=URI;X-ADDRESS=Football Field – Woodland Campus 2741 Woodland Road Abington PA 19001 United States;X-APPLE-RADIUS=500;X-TITLE=2741 Woodland Road:geo:-75.138593,40.134161
END:VEVENT
BEGIN:VEVENT
DTSTART;TZID=America/New_York:20270721T180000
DTEND;TZID=America/New_York:20270721T200000
DTSTAMP:20260425T222453
CREATED:20260215T141832Z
LAST-MODIFIED:20260215T141832Z
UID:10002338-1816192800-1816200000@sbcabington.org
SUMMARY:Crusaders Football
DESCRIPTION:We are a youth Catholic football program \nfor children in grades 4th through 8th grade \nJV level – 4th through 6th grades \nVarsity level – 7th & 8th grade
URL:https://sbcabington.org/event/crusaders-football-2/2027-07-21/
LOCATION:Football Field – Woodland Campus\, 2741 Woodland Road\, Abington\, PA\, 19001\, United States
ORGANIZER;CN="Ed Hughes":MAILTO:evhughes13@gmail.com
GEO:40.134161;-75.138593
X-APPLE-STRUCTURED-LOCATION;VALUE=URI;X-ADDRESS=Football Field – Woodland Campus 2741 Woodland Road Abington PA 19001 United States;X-APPLE-RADIUS=500;X-TITLE=2741 Woodland Road:geo:-75.138593,40.134161
END:VEVENT
BEGIN:VEVENT
DTSTART;TZID=America/New_York:20270722T180000
DTEND;TZID=America/New_York:20270722T200000
DTSTAMP:20260425T222453
CREATED:20260215T141540Z
LAST-MODIFIED:20260215T141540Z
UID:10002122-1816279200-1816286400@sbcabington.org
SUMMARY:Crusaders Football
DESCRIPTION:We are a youth Catholic football program \nfor children in grades 4th through 8th grade \nJV level – 4th through 6th grades \nVarsity level – 7th & 8th grade
URL:https://sbcabington.org/event/crusaders-football/2027-07-22/
LOCATION:Football Field – Woodland Campus\, 2741 Woodland Road\, Abington\, PA\, 19001\, United States
ORGANIZER;CN="Ed Hughes":MAILTO:evhughes13@gmail.com
GEO:40.134161;-75.138593
X-APPLE-STRUCTURED-LOCATION;VALUE=URI;X-ADDRESS=Football Field – Woodland Campus 2741 Woodland Road Abington PA 19001 United States;X-APPLE-RADIUS=500;X-TITLE=2741 Woodland Road:geo:-75.138593,40.134161
END:VEVENT
BEGIN:VEVENT
DTSTART;TZID=America/New_York:20270722T180000
DTEND;TZID=America/New_York:20270722T200000
DTSTAMP:20260425T222453
CREATED:20260215T141832Z
LAST-MODIFIED:20260215T141832Z
UID:10002234-1816279200-1816286400@sbcabington.org
SUMMARY:Crusaders Football
DESCRIPTION:We are a youth Catholic football program \nfor children in grades 4th through 8th grade \nJV level – 4th through 6th grades \nVarsity level – 7th & 8th grade
URL:https://sbcabington.org/event/crusaders-football-2/2027-07-22/
LOCATION:Football Field – Woodland Campus\, 2741 Woodland Road\, Abington\, PA\, 19001\, United States
ORGANIZER;CN="Ed Hughes":MAILTO:evhughes13@gmail.com
GEO:40.134161;-75.138593
X-APPLE-STRUCTURED-LOCATION;VALUE=URI;X-ADDRESS=Football Field – Woodland Campus 2741 Woodland Road Abington PA 19001 United States;X-APPLE-RADIUS=500;X-TITLE=2741 Woodland Road:geo:-75.138593,40.134161
END:VEVENT
BEGIN:VEVENT
DTSTART;TZID=America/New_York:20270722T180000
DTEND;TZID=America/New_York:20270722T200000
DTSTAMP:20260425T222453
CREATED:20260215T142123Z
LAST-MODIFIED:20260215T142123Z
UID:10002468-1816279200-1816286400@sbcabington.org
SUMMARY:Crusaders Football
DESCRIPTION:We are a youth Catholic football program \nfor children in grades 4th through 8th grade \nJV level – 4th through 6th grades \nVarsity level – 7th & 8th grade
URL:https://sbcabington.org/event/crusaders-football-3/2027-07-22/
LOCATION:Football Field – Woodland Campus\, 2741 Woodland Road\, Abington\, PA\, 19001\, United States
ORGANIZER;CN="Ed Hughes":MAILTO:evhughes13@gmail.com
GEO:40.134161;-75.138593
X-APPLE-STRUCTURED-LOCATION;VALUE=URI;X-ADDRESS=Football Field – Woodland Campus 2741 Woodland Road Abington PA 19001 United States;X-APPLE-RADIUS=500;X-TITLE=2741 Woodland Road:geo:-75.138593,40.134161
END:VEVENT
BEGIN:VEVENT
DTSTART;TZID=America/New_York:20270724T103000
DTEND;TZID=America/New_York:20270724T140000
DTSTAMP:20260425T222453
CREATED:20260215T150348Z
LAST-MODIFIED:20260215T150540Z
UID:10002735-1816425000-1816437600@sbcabington.org
SUMMARY:Crusaders Football
DESCRIPTION:We are a youth Catholic football program \nfor children in grades 4th through 8th grade \nJV level – 4th through 6th grades \nVarsity level – 7th & 8th grade
URL:https://sbcabington.org/event/crusaders-football-4/2027-07-24/
LOCATION:Football Field – Woodland Campus\, 2741 Woodland Road\, Abington\, PA\, 19001\, United States
ORGANIZER;CN="Ed Hughes":MAILTO:evhughes13@gmail.com
GEO:40.134161;-75.138593
X-APPLE-STRUCTURED-LOCATION;VALUE=URI;X-ADDRESS=Football Field – Woodland Campus 2741 Woodland Road Abington PA 19001 United States;X-APPLE-RADIUS=500;X-TITLE=2741 Woodland Road:geo:-75.138593,40.134161
END:VEVENT
BEGIN:VEVENT
DTSTART;TZID=America/New_York:20270726T180000
DTEND;TZID=America/New_York:20270726T200000
DTSTAMP:20260425T222453
CREATED:20260215T141832Z
LAST-MODIFIED:20260215T141832Z
UID:10002339-1816624800-1816632000@sbcabington.org
SUMMARY:Crusaders Football
DESCRIPTION:We are a youth Catholic football program \nfor children in grades 4th through 8th grade \nJV level – 4th through 6th grades \nVarsity level – 7th & 8th grade
URL:https://sbcabington.org/event/crusaders-football-2/2027-07-26/
LOCATION:Football Field – Woodland Campus\, 2741 Woodland Road\, Abington\, PA\, 19001\, United States
ORGANIZER;CN="Ed Hughes":MAILTO:evhughes13@gmail.com
GEO:40.134161;-75.138593
X-APPLE-STRUCTURED-LOCATION;VALUE=URI;X-ADDRESS=Football Field – Woodland Campus 2741 Woodland Road Abington PA 19001 United States;X-APPLE-RADIUS=500;X-TITLE=2741 Woodland Road:geo:-75.138593,40.134161
END:VEVENT
BEGIN:VEVENT
DTSTART;TZID=America/New_York:20270727T180000
DTEND;TZID=America/New_York:20270727T200000
DTSTAMP:20260425T222453
CREATED:20260215T141540Z
LAST-MODIFIED:20260215T141540Z
UID:10002123-1816711200-1816718400@sbcabington.org
SUMMARY:Crusaders Football
DESCRIPTION:We are a youth Catholic football program \nfor children in grades 4th through 8th grade \nJV level – 4th through 6th grades \nVarsity level – 7th & 8th grade
URL:https://sbcabington.org/event/crusaders-football/2027-07-27/
LOCATION:Football Field – Woodland Campus\, 2741 Woodland Road\, Abington\, PA\, 19001\, United States
ORGANIZER;CN="Ed Hughes":MAILTO:evhughes13@gmail.com
GEO:40.134161;-75.138593
X-APPLE-STRUCTURED-LOCATION;VALUE=URI;X-ADDRESS=Football Field – Woodland Campus 2741 Woodland Road Abington PA 19001 United States;X-APPLE-RADIUS=500;X-TITLE=2741 Woodland Road:geo:-75.138593,40.134161
END:VEVENT
BEGIN:VEVENT
DTSTART;TZID=America/New_York:20270727T180000
DTEND;TZID=America/New_York:20270727T200000
DTSTAMP:20260425T222453
CREATED:20260215T141832Z
LAST-MODIFIED:20260215T141832Z
UID:10002235-1816711200-1816718400@sbcabington.org
SUMMARY:Crusaders Football
DESCRIPTION:We are a youth Catholic football program \nfor children in grades 4th through 8th grade \nJV level – 4th through 6th grades \nVarsity level – 7th & 8th grade
URL:https://sbcabington.org/event/crusaders-football-2/2027-07-27/
LOCATION:Football Field – Woodland Campus\, 2741 Woodland Road\, Abington\, PA\, 19001\, United States
ORGANIZER;CN="Ed Hughes":MAILTO:evhughes13@gmail.com
GEO:40.134161;-75.138593
X-APPLE-STRUCTURED-LOCATION;VALUE=URI;X-ADDRESS=Football Field – Woodland Campus 2741 Woodland Road Abington PA 19001 United States;X-APPLE-RADIUS=500;X-TITLE=2741 Woodland Road:geo:-75.138593,40.134161
END:VEVENT
BEGIN:VEVENT
DTSTART;TZID=America/New_York:20270727T180000
DTEND;TZID=America/New_York:20270727T200000
DTSTAMP:20260425T222453
CREATED:20260215T142123Z
LAST-MODIFIED:20260215T142123Z
UID:10002469-1816711200-1816718400@sbcabington.org
SUMMARY:Crusaders Football
DESCRIPTION:We are a youth Catholic football program \nfor children in grades 4th through 8th grade \nJV level – 4th through 6th grades \nVarsity level – 7th & 8th grade
URL:https://sbcabington.org/event/crusaders-football-3/2027-07-27/
LOCATION:Football Field – Woodland Campus\, 2741 Woodland Road\, Abington\, PA\, 19001\, United States
ORGANIZER;CN="Ed Hughes":MAILTO:evhughes13@gmail.com
GEO:40.134161;-75.138593
X-APPLE-STRUCTURED-LOCATION;VALUE=URI;X-ADDRESS=Football Field – Woodland Campus 2741 Woodland Road Abington PA 19001 United States;X-APPLE-RADIUS=500;X-TITLE=2741 Woodland Road:geo:-75.138593,40.134161
END:VEVENT
BEGIN:VEVENT
DTSTART;TZID=America/New_York:20270728T180000
DTEND;TZID=America/New_York:20270728T200000
DTSTAMP:20260425T222453
CREATED:20260215T141832Z
LAST-MODIFIED:20260215T141832Z
UID:10002340-1816797600-1816804800@sbcabington.org
SUMMARY:Crusaders Football
DESCRIPTION:We are a youth Catholic football program \nfor children in grades 4th through 8th grade \nJV level – 4th through 6th grades \nVarsity level – 7th & 8th grade
URL:https://sbcabington.org/event/crusaders-football-2/2027-07-28/
LOCATION:Football Field – Woodland Campus\, 2741 Woodland Road\, Abington\, PA\, 19001\, United States
ORGANIZER;CN="Ed Hughes":MAILTO:evhughes13@gmail.com
GEO:40.134161;-75.138593
X-APPLE-STRUCTURED-LOCATION;VALUE=URI;X-ADDRESS=Football Field – Woodland Campus 2741 Woodland Road Abington PA 19001 United States;X-APPLE-RADIUS=500;X-TITLE=2741 Woodland Road:geo:-75.138593,40.134161
END:VEVENT
BEGIN:VEVENT
DTSTART;TZID=America/New_York:20270729T180000
DTEND;TZID=America/New_York:20270729T200000
DTSTAMP:20260425T222453
CREATED:20260215T141540Z
LAST-MODIFIED:20260215T141540Z
UID:10002124-1816884000-1816891200@sbcabington.org
SUMMARY:Crusaders Football
DESCRIPTION:We are a youth Catholic football program \nfor children in grades 4th through 8th grade \nJV level – 4th through 6th grades \nVarsity level – 7th & 8th grade
URL:https://sbcabington.org/event/crusaders-football/2027-07-29/
LOCATION:Football Field – Woodland Campus\, 2741 Woodland Road\, Abington\, PA\, 19001\, United States
ORGANIZER;CN="Ed Hughes":MAILTO:evhughes13@gmail.com
GEO:40.134161;-75.138593
X-APPLE-STRUCTURED-LOCATION;VALUE=URI;X-ADDRESS=Football Field – Woodland Campus 2741 Woodland Road Abington PA 19001 United States;X-APPLE-RADIUS=500;X-TITLE=2741 Woodland Road:geo:-75.138593,40.134161
END:VEVENT
BEGIN:VEVENT
DTSTART;TZID=America/New_York:20270729T180000
DTEND;TZID=America/New_York:20270729T200000
DTSTAMP:20260425T222453
CREATED:20260215T141832Z
LAST-MODIFIED:20260215T141832Z
UID:10002236-1816884000-1816891200@sbcabington.org
SUMMARY:Crusaders Football
DESCRIPTION:We are a youth Catholic football program \nfor children in grades 4th through 8th grade \nJV level – 4th through 6th grades \nVarsity level – 7th & 8th grade
URL:https://sbcabington.org/event/crusaders-football-2/2027-07-29/
LOCATION:Football Field – Woodland Campus\, 2741 Woodland Road\, Abington\, PA\, 19001\, United States
ORGANIZER;CN="Ed Hughes":MAILTO:evhughes13@gmail.com
GEO:40.134161;-75.138593
X-APPLE-STRUCTURED-LOCATION;VALUE=URI;X-ADDRESS=Football Field – Woodland Campus 2741 Woodland Road Abington PA 19001 United States;X-APPLE-RADIUS=500;X-TITLE=2741 Woodland Road:geo:-75.138593,40.134161
END:VEVENT
BEGIN:VEVENT
DTSTART;TZID=America/New_York:20270729T180000
DTEND;TZID=America/New_York:20270729T200000
DTSTAMP:20260425T222453
CREATED:20260215T142123Z
LAST-MODIFIED:20260215T142123Z
UID:10002470-1816884000-1816891200@sbcabington.org
SUMMARY:Crusaders Football
DESCRIPTION:We are a youth Catholic football program \nfor children in grades 4th through 8th grade \nJV level – 4th through 6th grades \nVarsity level – 7th & 8th grade
URL:https://sbcabington.org/event/crusaders-football-3/2027-07-29/
LOCATION:Football Field – Woodland Campus\, 2741 Woodland Road\, Abington\, PA\, 19001\, United States
ORGANIZER;CN="Ed Hughes":MAILTO:evhughes13@gmail.com
GEO:40.134161;-75.138593
X-APPLE-STRUCTURED-LOCATION;VALUE=URI;X-ADDRESS=Football Field – Woodland Campus 2741 Woodland Road Abington PA 19001 United States;X-APPLE-RADIUS=500;X-TITLE=2741 Woodland Road:geo:-75.138593,40.134161
END:VEVENT
BEGIN:VEVENT
DTSTART;TZID=America/New_York:20270731T103000
DTEND;TZID=America/New_York:20270731T140000
DTSTAMP:20260425T222453
CREATED:20260215T150348Z
LAST-MODIFIED:20260215T150540Z
UID:10002736-1817029800-1817042400@sbcabington.org
SUMMARY:Crusaders Football
DESCRIPTION:We are a youth Catholic football program \nfor children in grades 4th through 8th grade \nJV level – 4th through 6th grades \nVarsity level – 7th & 8th grade
URL:https://sbcabington.org/event/crusaders-football-4/2027-07-31/
LOCATION:Football Field – Woodland Campus\, 2741 Woodland Road\, Abington\, PA\, 19001\, United States
ORGANIZER;CN="Ed Hughes":MAILTO:evhughes13@gmail.com
GEO:40.134161;-75.138593
X-APPLE-STRUCTURED-LOCATION;VALUE=URI;X-ADDRESS=Football Field – Woodland Campus 2741 Woodland Road Abington PA 19001 United States;X-APPLE-RADIUS=500;X-TITLE=2741 Woodland Road:geo:-75.138593,40.134161
END:VEVENT
BEGIN:VEVENT
DTSTART;TZID=America/New_York:20270802T180000
DTEND;TZID=America/New_York:20270802T200000
DTSTAMP:20260425T222453
CREATED:20260215T141832Z
LAST-MODIFIED:20260215T141832Z
UID:10002341-1817229600-1817236800@sbcabington.org
SUMMARY:Crusaders Football
DESCRIPTION:We are a youth Catholic football program \nfor children in grades 4th through 8th grade \nJV level – 4th through 6th grades \nVarsity level – 7th & 8th grade
URL:https://sbcabington.org/event/crusaders-football-2/2027-08-02/
LOCATION:Football Field – Woodland Campus\, 2741 Woodland Road\, Abington\, PA\, 19001\, United States
ORGANIZER;CN="Ed Hughes":MAILTO:evhughes13@gmail.com
GEO:40.134161;-75.138593
X-APPLE-STRUCTURED-LOCATION;VALUE=URI;X-ADDRESS=Football Field – Woodland Campus 2741 Woodland Road Abington PA 19001 United States;X-APPLE-RADIUS=500;X-TITLE=2741 Woodland Road:geo:-75.138593,40.134161
END:VEVENT
BEGIN:VEVENT
DTSTART;TZID=America/New_York:20270803T180000
DTEND;TZID=America/New_York:20270803T200000
DTSTAMP:20260425T222453
CREATED:20260215T141832Z
LAST-MODIFIED:20260215T141832Z
UID:10002342-1817316000-1817323200@sbcabington.org
SUMMARY:Crusaders Football
DESCRIPTION:We are a youth Catholic football program \nfor children in grades 4th through 8th grade \nJV level – 4th through 6th grades \nVarsity level – 7th & 8th grade
URL:https://sbcabington.org/event/crusaders-football-2/2027-08-03/
LOCATION:Football Field – Woodland Campus\, 2741 Woodland Road\, Abington\, PA\, 19001\, United States
ORGANIZER;CN="Ed Hughes":MAILTO:evhughes13@gmail.com
GEO:40.134161;-75.138593
X-APPLE-STRUCTURED-LOCATION;VALUE=URI;X-ADDRESS=Football Field – Woodland Campus 2741 Woodland Road Abington PA 19001 United States;X-APPLE-RADIUS=500;X-TITLE=2741 Woodland Road:geo:-75.138593,40.134161
END:VEVENT
BEGIN:VEVENT
DTSTART;TZID=America/New_York:20270803T180000
DTEND;TZID=America/New_York:20270803T200000
DTSTAMP:20260425T222453
CREATED:20260215T142123Z
LAST-MODIFIED:20260215T142123Z
UID:10002471-1817316000-1817323200@sbcabington.org
SUMMARY:Crusaders Football
DESCRIPTION:We are a youth Catholic football program \nfor children in grades 4th through 8th grade \nJV level – 4th through 6th grades \nVarsity level – 7th & 8th grade
URL:https://sbcabington.org/event/crusaders-football-3/2027-08-03/
LOCATION:Football Field – Woodland Campus\, 2741 Woodland Road\, Abington\, PA\, 19001\, United States
ORGANIZER;CN="Ed Hughes":MAILTO:evhughes13@gmail.com
GEO:40.134161;-75.138593
X-APPLE-STRUCTURED-LOCATION;VALUE=URI;X-ADDRESS=Football Field – Woodland Campus 2741 Woodland Road Abington PA 19001 United States;X-APPLE-RADIUS=500;X-TITLE=2741 Woodland Road:geo:-75.138593,40.134161
END:VEVENT
BEGIN:VEVENT
DTSTART;TZID=America/New_York:20270804T180000
DTEND;TZID=America/New_York:20270804T200000
DTSTAMP:20260425T222453
CREATED:20260215T141832Z
LAST-MODIFIED:20260215T141832Z
UID:10002343-1817402400-1817409600@sbcabington.org
SUMMARY:Crusaders Football
DESCRIPTION:We are a youth Catholic football program \nfor children in grades 4th through 8th grade \nJV level – 4th through 6th grades \nVarsity level – 7th & 8th grade
URL:https://sbcabington.org/event/crusaders-football-2/2027-08-04/
LOCATION:Football Field – Woodland Campus\, 2741 Woodland Road\, Abington\, PA\, 19001\, United States
ORGANIZER;CN="Ed Hughes":MAILTO:evhughes13@gmail.com
GEO:40.134161;-75.138593
X-APPLE-STRUCTURED-LOCATION;VALUE=URI;X-ADDRESS=Football Field – Woodland Campus 2741 Woodland Road Abington PA 19001 United States;X-APPLE-RADIUS=500;X-TITLE=2741 Woodland Road:geo:-75.138593,40.134161
END:VEVENT
END:VCALENDAR