BEGIN:VCALENDAR
VERSION:2.0
PRODID:-//Salem Baptist Church of Abington - ECPv6.15.20//NONSGML v1.0//EN
CALSCALE:GREGORIAN
METHOD:PUBLISH
X-WR-CALNAME:Salem Baptist Church of Abington
X-ORIGINAL-URL:https://sbcabington.org
X-WR-CALDESC:Events for Salem Baptist Church of Abington
REFRESH-INTERVAL;VALUE=DURATION:PT1H
X-Robots-Tag:noindex
X-PUBLISHED-TTL:PT1H
BEGIN:VTIMEZONE
TZID:America/New_York
BEGIN:DAYLIGHT
TZOFFSETFROM:-0500
TZOFFSETTO:-0400
TZNAME:EDT
DTSTART:20250309T070000
END:DAYLIGHT
BEGIN:STANDARD
TZOFFSETFROM:-0400
TZOFFSETTO:-0500
TZNAME:EST
DTSTART:20251102T060000
END:STANDARD
BEGIN:DAYLIGHT
TZOFFSETFROM:-0500
TZOFFSETTO:-0400
TZNAME:EDT
DTSTART:20260308T070000
END:DAYLIGHT
BEGIN:STANDARD
TZOFFSETFROM:-0400
TZOFFSETTO:-0500
TZNAME:EST
DTSTART:20261101T060000
END:STANDARD
BEGIN:DAYLIGHT
TZOFFSETFROM:-0500
TZOFFSETTO:-0400
TZNAME:EDT
DTSTART:20270314T070000
END:DAYLIGHT
BEGIN:STANDARD
TZOFFSETFROM:-0400
TZOFFSETTO:-0500
TZNAME:EST
DTSTART:20271107T060000
END:STANDARD
END:VTIMEZONE
BEGIN:VEVENT
DTSTART;TZID=America/New_York:20260417T170000
DTEND;TZID=America/New_York:20260417T183000
DTSTAMP:20260421T055500
CREATED:20260417T164527Z
LAST-MODIFIED:20260417T164527Z
UID:10003244-1776445200-1776450600@sbcabington.org
SUMMARY:Voices of Praise Choir Rehearsal
DESCRIPTION:The Voices of Praise Choir will hold rehearsals conducted by Pastor Paul Scott. All choir members are encouraged to attend as we prepare our hearts and voices to lead the congregation in powerful worship. \nUnder his leadership\, the choir will focus on vocal excellence\, spiritual growth\, and unity as we minister through song. Your presence and participation are important as we continue striving for excellence in worship. \nIf you have any questions\, please contact the church office or email him. \nWe look forward to seeing you there!
URL:https://sbcabington.org/event/voices-of-praise-choir-3/
LOCATION:Sanctuary – Woodland Road Campus\, 2741 Woodland Road\, Abington\, PA\, 19001\, United States
ORGANIZER;CN="Pastory Paul Scott":MAILTO:pastorpaulscottsr@gmail.com
GEO:40.133474202212;-75.139770097001
X-APPLE-STRUCTURED-LOCATION;VALUE=URI;X-ADDRESS=Sanctuary – Woodland Road Campus 2741 Woodland Road Abington PA 19001 United States;X-APPLE-RADIUS=500;X-TITLE=2741 Woodland Road:geo:-75.139770097001,40.133474202212
END:VEVENT
BEGIN:VEVENT
DTSTART;TZID=America/New_York:20260410T170000
DTEND;TZID=America/New_York:20260410T183000
DTSTAMP:20260421T055500
CREATED:20260211T082355Z
LAST-MODIFIED:20260313T175044Z
UID:10003243-1775840400-1775845800@sbcabington.org
SUMMARY:Voices of Praise Choir Rehearsal
DESCRIPTION:The Voices of Praise Choir will hold rehearsals conducted by Pastor Paul Scott. All choir members are encouraged to attend as we prepare our hearts and voices to lead the congregation in powerful worship. \nUnder his leadership\, the choir will focus on vocal excellence\, spiritual growth\, and unity as we minister through song. Your presence and participation are important as we continue striving for excellence in worship. \nIf you have any questions\, please contact the church office or email him. \nWe look forward to seeing you there!
URL:https://sbcabington.org/event/voices-of-praise-choir/2026-04-10/
LOCATION:Sanctuary – Woodland Road Campus\, 2741 Woodland Road\, Abington\, PA\, 19001\, United States
ORGANIZER;CN="Pastory Paul Scott":MAILTO:pastorpaulscottsr@gmail.com
GEO:40.133474202212;-75.139770097001
X-APPLE-STRUCTURED-LOCATION;VALUE=URI;X-ADDRESS=Sanctuary – Woodland Road Campus 2741 Woodland Road Abington PA 19001 United States;X-APPLE-RADIUS=500;X-TITLE=2741 Woodland Road:geo:-75.139770097001,40.133474202212
END:VEVENT
BEGIN:VEVENT
DTSTART;TZID=America/New_York:20260403T170000
DTEND;TZID=America/New_York:20260403T183000
DTSTAMP:20260421T055500
CREATED:20260211T082355Z
LAST-MODIFIED:20260313T175044Z
UID:10003242-1775235600-1775241000@sbcabington.org
SUMMARY:Voices of Praise Choir Rehearsal
DESCRIPTION:The Voices of Praise Choir will hold rehearsals conducted by Pastor Paul Scott. All choir members are encouraged to attend as we prepare our hearts and voices to lead the congregation in powerful worship. \nUnder his leadership\, the choir will focus on vocal excellence\, spiritual growth\, and unity as we minister through song. Your presence and participation are important as we continue striving for excellence in worship. \nIf you have any questions\, please contact the church office or email him. \nWe look forward to seeing you there!
URL:https://sbcabington.org/event/voices-of-praise-choir/2026-04-03/
LOCATION:Sanctuary – Woodland Road Campus\, 2741 Woodland Road\, Abington\, PA\, 19001\, United States
ORGANIZER;CN="Pastory Paul Scott":MAILTO:pastorpaulscottsr@gmail.com
GEO:40.133474202212;-75.139770097001
X-APPLE-STRUCTURED-LOCATION;VALUE=URI;X-ADDRESS=Sanctuary – Woodland Road Campus 2741 Woodland Road Abington PA 19001 United States;X-APPLE-RADIUS=500;X-TITLE=2741 Woodland Road:geo:-75.139770097001,40.133474202212
END:VEVENT
BEGIN:VEVENT
DTSTART;TZID=America/New_York:20260327T170000
DTEND;TZID=America/New_York:20260327T183000
DTSTAMP:20260421T055500
CREATED:20260211T082355Z
LAST-MODIFIED:20260313T175044Z
UID:10003241-1774630800-1774636200@sbcabington.org
SUMMARY:Voices of Praise Choir Rehearsal
DESCRIPTION:The Voices of Praise Choir will hold rehearsals conducted by Pastor Paul Scott. All choir members are encouraged to attend as we prepare our hearts and voices to lead the congregation in powerful worship. \nUnder his leadership\, the choir will focus on vocal excellence\, spiritual growth\, and unity as we minister through song. Your presence and participation are important as we continue striving for excellence in worship. \nIf you have any questions\, please contact the church office or email him. \nWe look forward to seeing you there!
URL:https://sbcabington.org/event/voices-of-praise-choir/2026-03-27/
LOCATION:Sanctuary – Woodland Road Campus\, 2741 Woodland Road\, Abington\, PA\, 19001\, United States
ORGANIZER;CN="Pastory Paul Scott":MAILTO:pastorpaulscottsr@gmail.com
GEO:40.133474202212;-75.139770097001
X-APPLE-STRUCTURED-LOCATION;VALUE=URI;X-ADDRESS=Sanctuary – Woodland Road Campus 2741 Woodland Road Abington PA 19001 United States;X-APPLE-RADIUS=500;X-TITLE=2741 Woodland Road:geo:-75.139770097001,40.133474202212
END:VEVENT
BEGIN:VEVENT
DTSTART;TZID=America/New_York:20260320T170000
DTEND;TZID=America/New_York:20260320T183000
DTSTAMP:20260421T055500
CREATED:20260211T082355Z
LAST-MODIFIED:20260313T175044Z
UID:10003240-1774026000-1774031400@sbcabington.org
SUMMARY:Voices of Praise Choir Rehearsal
DESCRIPTION:The Voices of Praise Choir will hold rehearsals conducted by Pastor Paul Scott. All choir members are encouraged to attend as we prepare our hearts and voices to lead the congregation in powerful worship. \nUnder his leadership\, the choir will focus on vocal excellence\, spiritual growth\, and unity as we minister through song. Your presence and participation are important as we continue striving for excellence in worship. \nIf you have any questions\, please contact the church office or email him. \nWe look forward to seeing you there!
URL:https://sbcabington.org/event/voices-of-praise-choir/2026-03-20/
LOCATION:Sanctuary – Woodland Road Campus\, 2741 Woodland Road\, Abington\, PA\, 19001\, United States
ORGANIZER;CN="Pastory Paul Scott":MAILTO:pastorpaulscottsr@gmail.com
GEO:40.133474202212;-75.139770097001
X-APPLE-STRUCTURED-LOCATION;VALUE=URI;X-ADDRESS=Sanctuary – Woodland Road Campus 2741 Woodland Road Abington PA 19001 United States;X-APPLE-RADIUS=500;X-TITLE=2741 Woodland Road:geo:-75.139770097001,40.133474202212
END:VEVENT
BEGIN:VEVENT
DTSTART;TZID=America/New_York:20260313T170000
DTEND;TZID=America/New_York:20260313T183000
DTSTAMP:20260421T055500
CREATED:20260313T175204Z
LAST-MODIFIED:20260313T175207Z
UID:10003239-1773421200-1773426600@sbcabington.org
SUMMARY:Voices of Praise Choir Rehearsal
DESCRIPTION:The Voices of Praise Choir will hold rehearsals conducted by Pastor Paul Scott. All choir members are encouraged to attend as we prepare our hearts and voices to lead the congregation in powerful worship. \nUnder his leadership\, the choir will focus on vocal excellence\, spiritual growth\, and unity as we minister through song. Your presence and participation are important as we continue striving for excellence in worship. \nIf you have any questions\, please contact the church office or email him. \nWe look forward to seeing you there!
URL:https://sbcabington.org/event/voices-of-praise-choir-2/
LOCATION:Sanctuary – Woodland Road Campus\, 2741 Woodland Road\, Abington\, PA\, 19001\, United States
ORGANIZER;CN="Pastory Paul Scott":MAILTO:pastorpaulscottsr@gmail.com
GEO:40.133474202212;-75.139770097001
X-APPLE-STRUCTURED-LOCATION;VALUE=URI;X-ADDRESS=Sanctuary – Woodland Road Campus 2741 Woodland Road Abington PA 19001 United States;X-APPLE-RADIUS=500;X-TITLE=2741 Woodland Road:geo:-75.139770097001,40.133474202212
END:VEVENT
BEGIN:VEVENT
DTSTART;TZID=America/New_York:20260306T170000
DTEND;TZID=America/New_York:20260306T183000
DTSTAMP:20260421T055500
CREATED:20260211T082355Z
LAST-MODIFIED:20260313T175044Z
UID:10003238-1772816400-1772821800@sbcabington.org
SUMMARY:Voices of Praise Choir Rehearsal
DESCRIPTION:The Voices of Praise Choir will hold rehearsals conducted by Pastor Paul Scott. All choir members are encouraged to attend as we prepare our hearts and voices to lead the congregation in powerful worship. \nUnder his leadership\, the choir will focus on vocal excellence\, spiritual growth\, and unity as we minister through song. Your presence and participation are important as we continue striving for excellence in worship. \nIf you have any questions\, please contact the church office or email him. \nWe look forward to seeing you there!
URL:https://sbcabington.org/event/voices-of-praise-choir/2026-03-06/
LOCATION:Sanctuary – Woodland Road Campus\, 2741 Woodland Road\, Abington\, PA\, 19001\, United States
ORGANIZER;CN="Pastory Paul Scott":MAILTO:pastorpaulscottsr@gmail.com
GEO:40.133474202212;-75.139770097001
X-APPLE-STRUCTURED-LOCATION;VALUE=URI;X-ADDRESS=Sanctuary – Woodland Road Campus 2741 Woodland Road Abington PA 19001 United States;X-APPLE-RADIUS=500;X-TITLE=2741 Woodland Road:geo:-75.139770097001,40.133474202212
END:VEVENT
BEGIN:VEVENT
DTSTART;TZID=America/New_York:20260227T170000
DTEND;TZID=America/New_York:20260227T183000
DTSTAMP:20260421T055500
CREATED:20260211T082355Z
LAST-MODIFIED:20260313T175044Z
UID:10003237-1772211600-1772217000@sbcabington.org
SUMMARY:Voices of Praise Choir Rehearsal
DESCRIPTION:The Voices of Praise Choir will hold rehearsals conducted by Pastor Paul Scott. All choir members are encouraged to attend as we prepare our hearts and voices to lead the congregation in powerful worship. \nUnder his leadership\, the choir will focus on vocal excellence\, spiritual growth\, and unity as we minister through song. Your presence and participation are important as we continue striving for excellence in worship. \nIf you have any questions\, please contact the church office or email him. \nWe look forward to seeing you there!
URL:https://sbcabington.org/event/voices-of-praise-choir/2026-02-27/
LOCATION:Sanctuary – Woodland Road Campus\, 2741 Woodland Road\, Abington\, PA\, 19001\, United States
ORGANIZER;CN="Pastory Paul Scott":MAILTO:pastorpaulscottsr@gmail.com
GEO:40.133474202212;-75.139770097001
X-APPLE-STRUCTURED-LOCATION;VALUE=URI;X-ADDRESS=Sanctuary – Woodland Road Campus 2741 Woodland Road Abington PA 19001 United States;X-APPLE-RADIUS=500;X-TITLE=2741 Woodland Road:geo:-75.139770097001,40.133474202212
END:VEVENT
BEGIN:VEVENT
DTSTART;TZID=America/New_York:20260220T170000
DTEND;TZID=America/New_York:20260220T183000
DTSTAMP:20260421T055500
CREATED:20260211T082355Z
LAST-MODIFIED:20260313T175044Z
UID:10003236-1771606800-1771612200@sbcabington.org
SUMMARY:Voices of Praise Choir Rehearsal
DESCRIPTION:The Voices of Praise Choir will hold rehearsals conducted by Pastor Paul Scott. All choir members are encouraged to attend as we prepare our hearts and voices to lead the congregation in powerful worship. \nUnder his leadership\, the choir will focus on vocal excellence\, spiritual growth\, and unity as we minister through song. Your presence and participation are important as we continue striving for excellence in worship. \nIf you have any questions\, please contact the church office or email him. \nWe look forward to seeing you there!
URL:https://sbcabington.org/event/voices-of-praise-choir/2026-02-20/
LOCATION:Sanctuary – Woodland Road Campus\, 2741 Woodland Road\, Abington\, PA\, 19001\, United States
ORGANIZER;CN="Pastory Paul Scott":MAILTO:pastorpaulscottsr@gmail.com
GEO:40.133474202212;-75.139770097001
X-APPLE-STRUCTURED-LOCATION;VALUE=URI;X-ADDRESS=Sanctuary – Woodland Road Campus 2741 Woodland Road Abington PA 19001 United States;X-APPLE-RADIUS=500;X-TITLE=2741 Woodland Road:geo:-75.139770097001,40.133474202212
END:VEVENT
BEGIN:VEVENT
DTSTART;TZID=America/New_York:20260213T170000
DTEND;TZID=America/New_York:20260213T183000
DTSTAMP:20260421T055500
CREATED:20260211T082355Z
LAST-MODIFIED:20260313T175044Z
UID:10003235-1771002000-1771007400@sbcabington.org
SUMMARY:Voices of Praise Choir Rehearsal
DESCRIPTION:The Voices of Praise Choir will hold rehearsals conducted by Pastor Paul Scott. All choir members are encouraged to attend as we prepare our hearts and voices to lead the congregation in powerful worship. \nUnder his leadership\, the choir will focus on vocal excellence\, spiritual growth\, and unity as we minister through song. Your presence and participation are important as we continue striving for excellence in worship. \nIf you have any questions\, please contact the church office or email him. \nWe look forward to seeing you there!
URL:https://sbcabington.org/event/voices-of-praise-choir/2026-02-13/
LOCATION:Sanctuary – Woodland Road Campus\, 2741 Woodland Road\, Abington\, PA\, 19001\, United States
ORGANIZER;CN="Pastory Paul Scott":MAILTO:pastorpaulscottsr@gmail.com
GEO:40.133474202212;-75.139770097001
X-APPLE-STRUCTURED-LOCATION;VALUE=URI;X-ADDRESS=Sanctuary – Woodland Road Campus 2741 Woodland Road Abington PA 19001 United States;X-APPLE-RADIUS=500;X-TITLE=2741 Woodland Road:geo:-75.139770097001,40.133474202212
END:VEVENT
BEGIN:VEVENT
DTSTART;TZID=America/New_York:20260206T170000
DTEND;TZID=America/New_York:20260206T183000
DTSTAMP:20260421T055500
CREATED:20260211T082355Z
LAST-MODIFIED:20260313T175044Z
UID:10003234-1770397200-1770402600@sbcabington.org
SUMMARY:Voices of Praise Choir Rehearsal
DESCRIPTION:The Voices of Praise Choir will hold rehearsals conducted by Pastor Paul Scott. All choir members are encouraged to attend as we prepare our hearts and voices to lead the congregation in powerful worship. \nUnder his leadership\, the choir will focus on vocal excellence\, spiritual growth\, and unity as we minister through song. Your presence and participation are important as we continue striving for excellence in worship. \nIf you have any questions\, please contact the church office or email him. \nWe look forward to seeing you there!
URL:https://sbcabington.org/event/voices-of-praise-choir/2026-02-06/
LOCATION:Sanctuary – Woodland Road Campus\, 2741 Woodland Road\, Abington\, PA\, 19001\, United States
ORGANIZER;CN="Pastory Paul Scott":MAILTO:pastorpaulscottsr@gmail.com
GEO:40.133474202212;-75.139770097001
X-APPLE-STRUCTURED-LOCATION;VALUE=URI;X-ADDRESS=Sanctuary – Woodland Road Campus 2741 Woodland Road Abington PA 19001 United States;X-APPLE-RADIUS=500;X-TITLE=2741 Woodland Road:geo:-75.139770097001,40.133474202212
END:VEVENT
BEGIN:VEVENT
DTSTART;TZID=America/New_York:20260130T170000
DTEND;TZID=America/New_York:20260130T183000
DTSTAMP:20260421T055500
CREATED:20260211T082355Z
LAST-MODIFIED:20260313T175044Z
UID:10003233-1769792400-1769797800@sbcabington.org
SUMMARY:Voices of Praise Choir Rehearsal
DESCRIPTION:The Voices of Praise Choir will hold rehearsals conducted by Pastor Paul Scott. All choir members are encouraged to attend as we prepare our hearts and voices to lead the congregation in powerful worship. \nUnder his leadership\, the choir will focus on vocal excellence\, spiritual growth\, and unity as we minister through song. Your presence and participation are important as we continue striving for excellence in worship. \nIf you have any questions\, please contact the church office or email him. \nWe look forward to seeing you there!
URL:https://sbcabington.org/event/voices-of-praise-choir/2026-01-30/
LOCATION:Sanctuary – Woodland Road Campus\, 2741 Woodland Road\, Abington\, PA\, 19001\, United States
ORGANIZER;CN="Pastory Paul Scott":MAILTO:pastorpaulscottsr@gmail.com
GEO:40.133474202212;-75.139770097001
X-APPLE-STRUCTURED-LOCATION;VALUE=URI;X-ADDRESS=Sanctuary – Woodland Road Campus 2741 Woodland Road Abington PA 19001 United States;X-APPLE-RADIUS=500;X-TITLE=2741 Woodland Road:geo:-75.139770097001,40.133474202212
END:VEVENT
BEGIN:VEVENT
DTSTART;TZID=America/New_York:20260123T170000
DTEND;TZID=America/New_York:20260123T183000
DTSTAMP:20260421T055500
CREATED:20260211T082355Z
LAST-MODIFIED:20260313T175044Z
UID:10003232-1769187600-1769193000@sbcabington.org
SUMMARY:Voices of Praise Choir Rehearsal
DESCRIPTION:The Voices of Praise Choir will hold rehearsals conducted by Pastor Paul Scott. All choir members are encouraged to attend as we prepare our hearts and voices to lead the congregation in powerful worship. \nUnder his leadership\, the choir will focus on vocal excellence\, spiritual growth\, and unity as we minister through song. Your presence and participation are important as we continue striving for excellence in worship. \nIf you have any questions\, please contact the church office or email him. \nWe look forward to seeing you there!
URL:https://sbcabington.org/event/voices-of-praise-choir/2026-01-23/
LOCATION:Sanctuary – Woodland Road Campus\, 2741 Woodland Road\, Abington\, PA\, 19001\, United States
ORGANIZER;CN="Pastory Paul Scott":MAILTO:pastorpaulscottsr@gmail.com
GEO:40.133474202212;-75.139770097001
X-APPLE-STRUCTURED-LOCATION;VALUE=URI;X-ADDRESS=Sanctuary – Woodland Road Campus 2741 Woodland Road Abington PA 19001 United States;X-APPLE-RADIUS=500;X-TITLE=2741 Woodland Road:geo:-75.139770097001,40.133474202212
END:VEVENT
BEGIN:VEVENT
DTSTART;TZID=America/New_York:20260116T170000
DTEND;TZID=America/New_York:20260116T183000
DTSTAMP:20260421T055500
CREATED:20260211T082355Z
LAST-MODIFIED:20260313T175044Z
UID:10003231-1768582800-1768588200@sbcabington.org
SUMMARY:Voices of Praise Choir Rehearsal
DESCRIPTION:The Voices of Praise Choir will hold rehearsals conducted by Pastor Paul Scott. All choir members are encouraged to attend as we prepare our hearts and voices to lead the congregation in powerful worship. \nUnder his leadership\, the choir will focus on vocal excellence\, spiritual growth\, and unity as we minister through song. Your presence and participation are important as we continue striving for excellence in worship. \nIf you have any questions\, please contact the church office or email him. \nWe look forward to seeing you there!
URL:https://sbcabington.org/event/voices-of-praise-choir/2026-01-16/
LOCATION:Sanctuary – Woodland Road Campus\, 2741 Woodland Road\, Abington\, PA\, 19001\, United States
ORGANIZER;CN="Pastory Paul Scott":MAILTO:pastorpaulscottsr@gmail.com
GEO:40.133474202212;-75.139770097001
X-APPLE-STRUCTURED-LOCATION;VALUE=URI;X-ADDRESS=Sanctuary – Woodland Road Campus 2741 Woodland Road Abington PA 19001 United States;X-APPLE-RADIUS=500;X-TITLE=2741 Woodland Road:geo:-75.139770097001,40.133474202212
END:VEVENT
BEGIN:VEVENT
DTSTART;TZID=America/New_York:20260109T170000
DTEND;TZID=America/New_York:20260109T183000
DTSTAMP:20260421T055500
CREATED:20260211T082355Z
LAST-MODIFIED:20260313T175044Z
UID:10003230-1767978000-1767983400@sbcabington.org
SUMMARY:Voices of Praise Choir Rehearsal
DESCRIPTION:The Voices of Praise Choir will hold rehearsals conducted by Pastor Paul Scott. All choir members are encouraged to attend as we prepare our hearts and voices to lead the congregation in powerful worship. \nUnder his leadership\, the choir will focus on vocal excellence\, spiritual growth\, and unity as we minister through song. Your presence and participation are important as we continue striving for excellence in worship. \nIf you have any questions\, please contact the church office or email him. \nWe look forward to seeing you there!
URL:https://sbcabington.org/event/voices-of-praise-choir/2026-01-09/
LOCATION:Sanctuary – Woodland Road Campus\, 2741 Woodland Road\, Abington\, PA\, 19001\, United States
ORGANIZER;CN="Pastory Paul Scott":MAILTO:pastorpaulscottsr@gmail.com
GEO:40.133474202212;-75.139770097001
X-APPLE-STRUCTURED-LOCATION;VALUE=URI;X-ADDRESS=Sanctuary – Woodland Road Campus 2741 Woodland Road Abington PA 19001 United States;X-APPLE-RADIUS=500;X-TITLE=2741 Woodland Road:geo:-75.139770097001,40.133474202212
END:VEVENT
BEGIN:VEVENT
DTSTART;TZID=America/New_York:20260102T170000
DTEND;TZID=America/New_York:20260102T183000
DTSTAMP:20260421T055500
CREATED:20260211T082355Z
LAST-MODIFIED:20260313T175044Z
UID:10003229-1767373200-1767378600@sbcabington.org
SUMMARY:Voices of Praise Choir Rehearsal
DESCRIPTION:The Voices of Praise Choir will hold rehearsals conducted by Pastor Paul Scott. All choir members are encouraged to attend as we prepare our hearts and voices to lead the congregation in powerful worship. \nUnder his leadership\, the choir will focus on vocal excellence\, spiritual growth\, and unity as we minister through song. Your presence and participation are important as we continue striving for excellence in worship. \nIf you have any questions\, please contact the church office or email him. \nWe look forward to seeing you there!
URL:https://sbcabington.org/event/voices-of-praise-choir/2026-01-02/
LOCATION:Sanctuary – Woodland Road Campus\, 2741 Woodland Road\, Abington\, PA\, 19001\, United States
ORGANIZER;CN="Pastory Paul Scott":MAILTO:pastorpaulscottsr@gmail.com
GEO:40.133474202212;-75.139770097001
X-APPLE-STRUCTURED-LOCATION;VALUE=URI;X-ADDRESS=Sanctuary – Woodland Road Campus 2741 Woodland Road Abington PA 19001 United States;X-APPLE-RADIUS=500;X-TITLE=2741 Woodland Road:geo:-75.139770097001,40.133474202212
END:VEVENT
END:VCALENDAR